BEGIN:VCALENDAR
VERSION:2.0
PRODID:-//CiviCRM//NONSGML CiviEvent iCal//EN
X-WR-TIMEZONE:America/Toronto
METHOD:PUBLISH
BEGIN:VTIMEZONE
TZID:America/Toronto
BEGIN:DAYLIGHT
TZOFFSETFROM:-0400
TZOFFSETTO:-0400
TZNAME:EDT
DTSTART:20260614T133000
END:DAYLIGHT
END:VTIMEZONE
BEGIN:VEVENT
UID:CiviCRM_EventID_218_0decb08df706f27b92c2a335dd72167a@www.eotb.ca
SUMMARY:Member Run - Crag Lake
X-ALT-DESC;FMTTYPE=text/html:<!DOCTYPE HTML PUBLIC
  "-//W3C//DTD HTML 3.2//EN"><html><body><h2>Descri
 ption</h2>\n \n <p>Crag Lake is one of the club&#3
 9\;s favourite trails with challenging rock climbs
  ending at a very scenic lakeside.</p>\n \n <h2>Me
 eting Place</h2>\n \n <p>Primary Meeting Location:
  <a href="https://goo.gl/maps/fwc4ACLpT2p">The Bog
 ie General Store</a> at 9:30am</p>\n \n <h2>Depart
 ure</h2>\n \n <p>We will be leaving no later than 
 10:00am.</p>\n \n <h2>Requirements</h2>\n \n <p>To
 w Points are mandatory for this trail. A lift and 
 33&quot\; or larger tires is recommended for this 
 trail.</p>\n \n <h2>Fuel</h2>\n \n <p>Please come 
 to the meeting location fully fueled and ready to 
 roll.</p>\n \n <h2>Non-Members</h2>\n \n <p>This i
 s a members only run. If you wish to invite a non-
 member\, please contact the trail leader to confir
 m that this event is suitable for your guest.</p>\
 n \n <h2>CB Radios</h2>\n \n <p>Please tune your C
 B to channel 4.&nbsp\; No CB?&nbsp\; Bring your FR
 S radio tuned to channel 4.</p>\n \n <h2>Reminders
 </h2>\n \n <p>Remember to bring a lunch\, plenty o
 f water\, boots\, cameras and your sense of advent
 ure. It is also recommended that you carry a tow s
 trap and some shackles as basic extraction equipme
 nt. Bug spray and sunscreen may also be wise.</p><
 /body></html>
DESCRIPTION:Description\n \n \n Crag Lake is one of the club's
  favourite trails with challenging rock climbs end
 ing at a very scenic lakeside.\n \n \n \n Meeting 
 Place\n \n \n Primary Meeting Location: The Bogie 
 General Store (https://goo.gl/maps/fwc4ACLpT2p) at
  9:30am\n \n \n \n Departure\n \n \n We will be le
 aving no later than 10:00am.\n \n \n \n Requiremen
 ts\n \n \n Tow Points are mandatory for this trail
 . A lift and 33" or larger tires is recommended fo
 r this trail.\n \n \n \n Fuel\n \n \n Please come 
 to the meeting location fully fueled and ready to 
 roll.\n \n \n \n Non-Members\n \n \n This is a mem
 bers only run. If you wish to invite a non-member\
 , please contact the trail leader to confirm that 
 this event is suitable for your guest.\n \n \n \n 
 CB Radios\n \n \n Please tune your CB to channel 4
 .  No CB?  Bring your FRS radio tuned to channel 4
 .\n \n \n \n Reminders\n \n \n Remember to bring a
  lunch\, plenty of water\, boots\, cameras and you
 r sense of adventure. It is also recommended that 
 you carry a tow strap and some shackles as basic e
 xtraction equipment. Bug spray and sunscreen may a
 lso be wise.\n \n 
CATEGORIES:Member-Run
CALSCALE:GREGORIAN
DTSTAMP;TZID=America/Toronto:20260614T093000
DTSTART;TZID=America/Toronto:20260614T093000
DTEND;TZID=America/Toronto:20260614T180000
LOCATION:4709 Calabogie Rd\n Calabogie\, ON K0J 1H0\n Canad
 a\n 
URL:https://www.eotb.ca/civicrm/event/info/?reset=1&id=218
END:VEVENT
END:VCALENDAR
